BEGIN:VCALENDAR
VERSION:2.0
PRODID:SchoolNow
CALSCALE:GREGORIAN
BEGIN:VEVENT
UID:1fa60ea6-cf78-11eb-a808-0a0c15f7a3f9
DTSTAMP:20220425T155818Z
SUMMARY:Last Day of School Half Day Students attend 8:30am-11:45am
URL;VALUE=URI:https://www.dist126.org/stonycreek/about/calendar/2622320/las
 t-day-of-school
DTSTART;VALUE=DATE:20220603
DTEND;VALUE=DATE:20220604
END:VEVENT
END:VCALENDAR
