BEGIN:VCALENDAR
VERSION:2.0
PRODID:SchoolNow
CALSCALE:GREGORIAN
BEGIN:VEVENT
UID:1018a372-cf78-11eb-bffb-0a0c15f7a3f9
DTSTAMP:20210617T142653Z
SUMMARY:Field Day
URL;VALUE=URI:https://www.dist126.org/stonycreek/about/calendar/2622319/fie
 ld-day
DTSTART;VALUE=DATE:20220601
DTEND;VALUE=DATE:20220602
END:VEVENT
END:VCALENDAR
