BEGIN:VCALENDAR
VERSION:2.0
PRODID:SchoolNow
CALSCALE:GREGORIAN
BEGIN:VEVENT
UID:06a4f5de-cf78-11eb-b531-0a0c15f7a3f9
DTSTAMP:20210617T142637Z
SUMMARY:No School -- Memorial Day
URL;VALUE=URI:https://www.dist126.org/stonycreek/about/calendar/2622318/no-
 school-memorial-day
DTSTART;VALUE=DATE:20220530
DTEND;VALUE=DATE:20220531
END:VEVENT
END:VCALENDAR
