BEGIN:VCALENDAR
VERSION:2.0
PRODID:SchoolNow
CALSCALE:GREGORIAN
BEGIN:VEVENT
UID:faf79624-cf77-11eb-aeac-0a0c15f7a3f9
DTSTAMP:20210617T142618Z
SUMMARY:Kindergarten Music Celebration
URL;VALUE=URI:https://www.dist126.org/stonycreek/about/calendar/2622317/kin
 dergarten-music-celebration
DTSTART:20220526T183000Z
DTEND:20220526T193000Z
END:VEVENT
END:VCALENDAR
