BEGIN:VCALENDAR
VERSION:2.0
PRODID:SchoolNow
CALSCALE:GREGORIAN
BEGIN:VEVENT
UID:e9c7d170-cf77-11eb-985e-0a0c15f7a3f9
DTSTAMP:20210617T142549Z
SUMMARY:School Board Meeting
URL;VALUE=URI:https://www.dist126.org/stonycreek/about/calendar/2622316/sch
 ool-board-meeting
DTSTART:20220513T000000Z
DTEND:20220513T010000Z
END:VEVENT
END:VCALENDAR
