BEGIN:VCALENDAR
VERSION:2.0
PRODID:SchoolNow
CALSCALE:GREGORIAN
BEGIN:VEVENT
UID:d2987b26-cf77-11eb-9d91-0a0c15f7a3f9
DTSTAMP:20210617T142510Z
SUMMARY:PTO Meeting
URL;VALUE=URI:https://www.dist126.org/stonycreek/about/calendar/2622315/pto
 -meeting
DTSTART:20220512T000000Z
DTEND:20220512T010000Z
END:VEVENT
END:VCALENDAR
