BEGIN:VCALENDAR
VERSION:2.0
PRODID:SchoolNow
CALSCALE:GREGORIAN
BEGIN:VEVENT
UID:c767b4d8-cf77-11eb-9344-0a0c15f7a3f9
DTSTAMP:20220420T185758Z
SUMMARY:School Improvement Day -- 11:45am Dismissal
URL;VALUE=URI:https://www.dist126.org/stonycreek/about/calendar/2622314/sch
 ool-improvement-day-11-45am-dismissal
DTSTART;VALUE=DATE:20220506
DTEND;VALUE=DATE:20220507
END:VEVENT
END:VCALENDAR
