BEGIN:VCALENDAR
VERSION:2.0
PRODID:SchoolNow
CALSCALE:GREGORIAN
BEGIN:VEVENT
UID:b8c96c64-cf77-11eb-90cd-0a0c15f7a3f9
DTSTAMP:20220420T185504Z
SUMMARY:No School -- Eid al-Fitr
URL;VALUE=URI:https://www.dist126.org/stonycreek/about/calendar/2622313/no-
 school-eid-al-fitr
DTSTART;VALUE=DATE:20220502
DTEND;VALUE=DATE:20220503
END:VEVENT
END:VCALENDAR
