BEGIN:VCALENDAR
VERSION:2.0
PRODID:SchoolNow
CALSCALE:GREGORIAN
BEGIN:VEVENT
UID:aa314ece-cf77-11eb-8963-0a0c15f7a3f9
DTSTAMP:20210617T142402Z
SUMMARY:Fine Arts Night
URL;VALUE=URI:https://www.dist126.org/stonycreek/about/calendar/2622312/fin
 e-arts-night
DTSTART:20220428T230000Z
DTEND:20220429T000000Z
END:VEVENT
END:VCALENDAR
