BEGIN:VCALENDAR
VERSION:2.0
PRODID:SchoolNow
CALSCALE:GREGORIAN
BEGIN:VEVENT
UID:9ca42358-cf77-11eb-abc3-0a0c15f7a3f9
DTSTAMP:20210617T142340Z
SUMMARY:Stony Creek Book Fair
URL;VALUE=URI:https://www.dist126.org/stonycreek/about/calendar/2622311/sto
 ny-creek-book-fair
DTSTART;VALUE=DATE:20220425
DTEND;VALUE=DATE:20220430
END:VEVENT
END:VCALENDAR
