BEGIN:VCALENDAR
VERSION:2.0
PRODID:SchoolNow
CALSCALE:GREGORIAN
BEGIN:VEVENT
UID:9006837a-cf77-11eb-94e3-0a0c15f7a3f9
DTSTAMP:20210617T142318Z
SUMMARY:PTO Bingo
URL;VALUE=URI:https://www.dist126.org/stonycreek/about/calendar/2622310/pto
 -bingo
DTSTART:20220422T230000Z
DTEND:20220423T010000Z
END:VEVENT
END:VCALENDAR
