BEGIN:VCALENDAR
VERSION:2.0
PRODID:SchoolNow
CALSCALE:GREGORIAN
BEGIN:VEVENT
UID:7f0e5836-cf77-11eb-b0bd-0a0c15f7a3f9
DTSTAMP:20210617T142250Z
SUMMARY:PTO Meeting
URL;VALUE=URI:https://www.dist126.org/stonycreek/about/calendar/2622309/pto
 -meeting
DTSTART:20220407T000000Z
DTEND:20220407T010000Z
END:VEVENT
END:VCALENDAR
