BEGIN:VCALENDAR
VERSION:2.0
PRODID:SchoolNow
CALSCALE:GREGORIAN
BEGIN:VEVENT
UID:6f708278-cf77-11eb-8ce7-0a0c15f7a3f9
DTSTAMP:20210617T142224Z
SUMMARY:No School -- Good Friday
URL;VALUE=URI:https://www.dist126.org/stonycreek/about/calendar/2622308/no-
 school-good-friday
DTSTART;VALUE=DATE:20220415
DTEND;VALUE=DATE:20220416
END:VEVENT
END:VCALENDAR
