BEGIN:VCALENDAR
VERSION:2.0
PRODID:SchoolNow
CALSCALE:GREGORIAN
BEGIN:VEVENT
UID:63cf6858-cf77-11eb-87c9-0a0c15f7a3f9
DTSTAMP:20210617T142204Z
SUMMARY:School Board Meeting
URL;VALUE=URI:https://www.dist126.org/stonycreek/about/calendar/2622307/sch
 ool-board-meeting
DTSTART:20220415T000000Z
DTEND:20220415T010000Z
END:VEVENT
END:VCALENDAR
