BEGIN:VCALENDAR
VERSION:2.0
PRODID:SchoolNow
CALSCALE:GREGORIAN
BEGIN:VEVENT
UID:46c26dc8-cf77-11eb-bea1-0a0c15f7a3f9
DTSTAMP:20210617T142116Z
SUMMARY:Spring Pictures
URL;VALUE=URI:https://www.dist126.org/stonycreek/about/calendar/2622306/spr
 ing-pictures
DTSTART;VALUE=DATE:20220406
DTEND;VALUE=DATE:20220407
END:VEVENT
END:VCALENDAR
