BEGIN:VCALENDAR
VERSION:2.0
PRODID:SchoolNow
CALSCALE:GREGORIAN
BEGIN:VEVENT
UID:39133edc-cf77-11eb-b8a0-0a0c15f7a3f9
DTSTAMP:20210617T142053Z
SUMMARY:Spring Break
URL;VALUE=URI:https://www.dist126.org/stonycreek/about/calendar/2622305/spr
 ing-break
DTSTART;VALUE=DATE:20220328
DTEND;VALUE=DATE:20220402
END:VEVENT
END:VCALENDAR
