BEGIN:VCALENDAR
VERSION:2.0
PRODID:SchoolNow
CALSCALE:GREGORIAN
BEGIN:VEVENT
UID:02cd2ae0-cf77-11eb-a580-0a0c15f7a3f9
DTSTAMP:20210617T141921Z
SUMMARY:School Board Meeting
URL;VALUE=URI:https://www.dist126.org/stonycreek/about/calendar/2622304/sch
 ool-board-meeting
DTSTART:20220311T010000Z
DTEND:20220311T020000Z
END:VEVENT
END:VCALENDAR
