BEGIN:VCALENDAR
VERSION:2.0
PRODID:SchoolNow
CALSCALE:GREGORIAN
BEGIN:VEVENT
UID:f265c63a-cf76-11eb-92b2-0a0c15f7a3f9
DTSTAMP:20210617T141854Z
SUMMARY:No School -- Pulaski Day
URL;VALUE=URI:https://www.dist126.org/stonycreek/about/calendar/2622303/no-
 school-pulaski-day
DTSTART;VALUE=DATE:20220307
DTEND;VALUE=DATE:20220308
END:VEVENT
END:VCALENDAR
