BEGIN:VCALENDAR
VERSION:2.0
PRODID:SchoolNow
CALSCALE:GREGORIAN
BEGIN:VEVENT
UID:e425f8ce-cf76-11eb-90cd-0a0c15f7a3f9
DTSTAMP:20210617T141830Z
SUMMARY:PTO Meeting
URL;VALUE=URI:https://www.dist126.org/stonycreek/about/calendar/2622302/pto
 -meeting
DTSTART:20220303T010000Z
DTEND:20220303T020000Z
END:VEVENT
END:VCALENDAR
