BEGIN:VCALENDAR
VERSION:2.0
PRODID:SchoolNow
CALSCALE:GREGORIAN
BEGIN:VEVENT
UID:9cfadc5c-b8ed-11f0-994f-0e29feae2041
DTSTAMP:20251121T133509Z
SUMMARY:Christa McAuliffe Day - Commemoration of Space Exploration
URL;VALUE=URI:https://www.dist126.org/prairie/calendar/8774060/christa-mcau
 liffe-day-commemoration-of-space-exploration
DTSTART;VALUE=DATE:20270128
DTEND;VALUE=DATE:20270129
END:VEVENT
END:VCALENDAR
