BEGIN:VCALENDAR
VERSION:2.0
PRODID:SchoolNow
CALSCALE:GREGORIAN
BEGIN:VEVENT
UID:9cfadab8-b8ed-11f0-828b-0e29feae2041
DTSTAMP:20251121T133509Z
SUMMARY:Vietnam War Veterans Day
URL;VALUE=URI:https://www.dist126.org/prairie/calendar/8774059/vietnam-war-
 veterans-day
DTSTART;VALUE=DATE:20270329
DTEND;VALUE=DATE:20270330
END:VEVENT
END:VCALENDAR
