BEGIN:VCALENDAR
VERSION:2.0
PRODID:SchoolNow
CALSCALE:GREGORIAN
BEGIN:VEVENT
UID:d5e7651e-56c0-11ec-9f5b-0a2e9048e415
DTSTAMP:20211206T181756Z
SUMMARY:Hazelgreen - PFO Meeting
LOCATION:Hazelgreen
URL;VALUE=URI:https://www.dist126.org/hazelgreen/calendar/2934058/hazelgree
 n-pfo-meeting
DTSTART:20211216T001500Z
DTEND:20211216T011500Z
END:VEVENT
END:VCALENDAR
