BEGIN:VCALENDAR
VERSION:2.0
PRODID:SchoolNow
CALSCALE:GREGORIAN
BEGIN:VEVENT
UID:abe79972-40af-11ec-a2de-0abc60b53bdd
DTSTAMP:20211108T161938Z
SUMMARY:Picture Retakes
LOCATION:Hazelgreen
URL;VALUE=URI:https://www.dist126.org/hazelgreen/calendar/2878346/picture-r
 etakes
DTSTART:20211117T150000Z
DTEND:20211117T173500Z
END:VEVENT
END:VCALENDAR
