BEGIN:VCALENDAR
VERSION:2.0
PRODID:SchoolNow
CALSCALE:GREGORIAN
BEGIN:VEVENT
UID:31a3d5fa-409f-11ec-935a-0e880cd547e9
DTSTAMP:20211108T142141Z
SUMMARY:School Board Meeting
LOCATION:PJH
URL;VALUE=URI:https://www.dist126.org/hazelgreen/calendar/2878267/school-bo
 ard-meeting
DTSTART:20211119T010000Z
DTEND:20211119T030000Z
END:VEVENT
END:VCALENDAR
