BEGIN:VCALENDAR
VERSION:2.0
PRODID:SchoolNow
CALSCALE:GREGORIAN
BEGIN:VEVENT
UID:ed22a350-3e48-11ec-b549-0e592611da61
DTSTAMP:20211105T145907Z
SUMMARY:Parent Teacher Conferences
URL;VALUE=URI:https://www.dist126.org/hazelgreen/calendar/2871162/parent-te
 acher-conferences
DTSTART:20211123T150000Z
DTEND:20211123T210000Z
END:VEVENT
END:VCALENDAR
