BEGIN:VCALENDAR
VERSION:2.0
PRODID:SchoolNow
CALSCALE:GREGORIAN
BEGIN:VEVENT
UID:b6952902-3e48-11ec-962b-0e592611da61
DTSTAMP:20211105T145736Z
SUMMARY:Parent Teacher Conferences
URL;VALUE=URI:https://www.dist126.org/hazelgreen/calendar/2871161/parent-te
 acher-conferences
DTSTART:20211122T220000Z
DTEND:20211123T013000Z
END:VEVENT
END:VCALENDAR
