BEGIN:VCALENDAR
VERSION:2.0
PRODID:SchoolNow
CALSCALE:GREGORIAN
BEGIN:VEVENT
UID:4d9880f4-3e46-11ec-ba23-0e592611da61
DTSTAMP:20211105T144021Z
SUMMARY:PJH Choir/Band Concert
URL;VALUE=URI:https://www.dist126.org/hazelgreen/calendar/2871158/pjh-choir
 -band-concert
DTSTART:20211210T010000Z
DTEND:20211210T023000Z
END:VEVENT
END:VCALENDAR
