BEGIN:VCALENDAR
VERSION:2.0
PRODID:SchoolNow
CALSCALE:GREGORIAN
BEGIN:VEVENT
UID:1168a14c-3d9a-11ec-a505-0ef7ece03f37
DTSTAMP:20211104T180801Z
SUMMARY:No School -- Veteran's Day
URL;VALUE=URI:https://www.dist126.org/hazelgreen/calendar/2868527/no-school
 -veterans-day
DTSTART;VALUE=DATE:20211111
DTEND;VALUE=DATE:20211112
END:VEVENT
END:VCALENDAR
