BEGIN:VCALENDAR
VERSION:2.0
PRODID:SchoolNow
CALSCALE:GREGORIAN
BEGIN:VEVENT
UID:fe7b3464-b3c1-11e9-9d5a-0a7a299e7854
DTSTAMP:20211105T143635Z
SUMMARY:School Improvement Day -- 11:45 Dismissal
URL;VALUE=URI:https://www.dist126.org/hazelgreen/calendar/2043825/last-day-
 of-school
DTSTART:20211122T174500Z
DTEND:20211123T055900Z
END:VEVENT
END:VCALENDAR
