BEGIN:VCALENDAR
VERSION:2.0
PRODID:SchoolNow
CALSCALE:GREGORIAN
BEGIN:VEVENT
UID:d8b13fa8-b3c1-11e9-9069-0a7a299e7854
DTSTAMP:20211105T143257Z
SUMMARY:School Improvement Day\, No Student Attendance
URL;VALUE=URI:https://www.dist126.org/hazelgreen/calendar/2043822/no-school
DTSTART;VALUE=DATE:20211123
DTEND;VALUE=DATE:20211124
END:VEVENT
END:VCALENDAR
