BEGIN:VCALENDAR
VERSION:2.0
PRODID:SchoolNow
CALSCALE:GREGORIAN
BEGIN:VEVENT
UID:beaa4834-b3c1-11e9-9884-0a7a299e7854
DTSTAMP:20211105T143439Z
SUMMARY:No School -- Thanksgiving Holiday
URL;VALUE=URI:https://www.dist126.org/hazelgreen/calendar/2043821/institute
 -day-no-school-for-students
DTSTART;VALUE=DATE:20211124
DTEND;VALUE=DATE:20211127
END:VEVENT
END:VCALENDAR
