BEGIN:VCALENDAR
VERSION:2.0
PRODID:SchoolNow
CALSCALE:GREGORIAN
BEGIN:VEVENT
UID:89320fe8-b3c1-11e9-a06e-0a7a299e7854
DTSTAMP:20190731T183222Z
SUMMARY:Spring Break
URL;VALUE=URI:https://www.dist126.org/hazelgreen/calendar/2043817/spring-br
 eak
DTSTART;VALUE=DATE:20200323
DTEND;VALUE=DATE:20200328
END:VEVENT
END:VCALENDAR
