BEGIN:VCALENDAR
VERSION:2.0
PRODID:SchoolNow
CALSCALE:GREGORIAN
BEGIN:VEVENT
UID:6d9ed69e-b3c1-11e9-8067-0a7a299e7854
DTSTAMP:20190731T183136Z
SUMMARY:No School
URL;VALUE=URI:https://www.dist126.org/hazelgreen/calendar/2043816/no-school
DTSTART;VALUE=DATE:20200317
DTEND;VALUE=DATE:20200318
END:VEVENT
END:VCALENDAR
