BEGIN:VCALENDAR
VERSION:2.0
PRODID:SchoolNow
CALSCALE:GREGORIAN
BEGIN:VEVENT
UID:419830c2-b3c1-11e9-8be5-0a7a299e7854
DTSTAMP:20190731T183022Z
SUMMARY:No School - Casimir Pulaski Day
URL;VALUE=URI:https://www.dist126.org/hazelgreen/calendar/2043813/no-school
 -casimir-pulaski-day
DTSTART;VALUE=DATE:20200302
DTEND;VALUE=DATE:20200303
END:VEVENT
END:VCALENDAR
