BEGIN:VCALENDAR
VERSION:2.0
PRODID:SchoolNow
CALSCALE:GREGORIAN
BEGIN:VEVENT
UID:fc1d8524-b3c0-11e9-a804-0a7a299e7854
DTSTAMP:20190731T182825Z
SUMMARY:Early Dismissal- School Improvement Day
URL;VALUE=URI:https://www.dist126.org/hazelgreen/calendar/2043809/early-dis
 missal-school-improvment-day
DTSTART:20200221T164500Z
DTEND:20200221T174500Z
END:VEVENT
END:VCALENDAR
