BEGIN:VCALENDAR
VERSION:2.0
PRODID:SchoolNow
CALSCALE:GREGORIAN
BEGIN:VEVENT
UID:a41612f6-b3c0-11e9-800a-12d9de80558a
DTSTAMP:20190731T182557Z
SUMMARY:No School- Presidents Day
URL;VALUE=URI:https://www.dist126.org/hazelgreen/calendar/2043806/no-school
 -presidents-day
DTSTART;VALUE=DATE:20200217
DTEND;VALUE=DATE:20200218
END:VEVENT
END:VCALENDAR
