BEGIN:VCALENDAR
VERSION:2.0
PRODID:SchoolNow
CALSCALE:GREGORIAN
BEGIN:VEVENT
UID:07a4118e-b3c0-11e9-b363-12913d301822
DTSTAMP:20190731T182135Z
SUMMARY:Hazelgreen 12 Days of Caring Ends
URL;VALUE=URI:https://www.dist126.org/hazelgreen/calendar/2043798/hazelgree
 n-12-days-of-caring-ends
DTSTART;VALUE=DATE:20191218
DTEND;VALUE=DATE:20191219
END:VEVENT
END:VCALENDAR
