BEGIN:VCALENDAR
VERSION:2.0
PRODID:SchoolNow
CALSCALE:GREGORIAN
BEGIN:VEVENT
UID:e4313f2e-b3bf-11e9-8367-12913d301822
DTSTAMP:20190731T182036Z
SUMMARY:Winter Chorus Concert
LOCATION:Stony Creek School
URL;VALUE=URI:https://www.dist126.org/hazelgreen/calendar/2043796/winter-ch
 orus-concert
DTSTART:20191219T010000Z
DTEND:20191219T021900Z
END:VEVENT
END:VCALENDAR
