BEGIN:VCALENDAR
VERSION:2.0
PRODID:SchoolNow
CALSCALE:GREGORIAN
BEGIN:VEVENT
UID:ad136288-b3bf-11e9-b8aa-120011e96faa
DTSTAMP:20190731T181903Z
SUMMARY:Hazelgreen- PFO Meeting
URL;VALUE=URI:https://www.dist126.org/hazelgreen/calendar/2043793/hazelgree
 n-pfo-meeting
DTSTART:20191219T001500Z
DTEND:20191219T011800Z
END:VEVENT
END:VCALENDAR
