BEGIN:VCALENDAR
VERSION:2.0
PRODID:SchoolNow
CALSCALE:GREGORIAN
BEGIN:VEVENT
UID:88407824-b3bf-11e9-b565-120011e96faa
DTSTAMP:20190731T182302Z
SUMMARY:Hazelgreen Drama Club Holiday Performance
URL;VALUE=URI:https://www.dist126.org/hazelgreen/calendar/2043791/hazelgree
 n-drama-club-holiday-performance
DTSTART:20191219T191700Z
DTEND:20191219T201700Z
END:VEVENT
END:VCALENDAR
