BEGIN:VCALENDAR
VERSION:2.0
PRODID:SchoolNow
CALSCALE:GREGORIAN
BEGIN:VEVENT
UID:5b71bb5a-b3bf-11e9-8379-120011e96faa
DTSTAMP:20190731T181646Z
SUMMARY:Hazelgreen Jingle Bell Shop
URL;VALUE=URI:https://www.dist126.org/hazelgreen/calendar/2043788/hazelgree
 n-jingle-bell-shop
DTSTART;VALUE=DATE:20191209
DTEND;VALUE=DATE:20191213
END:VEVENT
END:VCALENDAR
