BEGIN:VCALENDAR
VERSION:2.0
PRODID:SchoolNow
CALSCALE:GREGORIAN
BEGIN:VEVENT
UID:2a6e2a0c-b3bf-11e9-8cb7-120011e96faa
DTSTAMP:20190731T181524Z
SUMMARY:Hazelgreen 12 Days of Caring Begins
URL;VALUE=URI:https://www.dist126.org/hazelgreen/calendar/2043787/hazelgree
 n-12-days-of-caring-begins
DTSTART:20191203T191400Z
DTEND:20191203T201400Z
END:VEVENT
END:VCALENDAR
