BEGIN:VCALENDAR
VERSION:2.0
PRODID:SchoolNow
CALSCALE:GREGORIAN
BEGIN:VEVENT
UID:f47cc5ac-b3be-11e9-94b1-120011e96faa
DTSTAMP:20190731T181353Z
SUMMARY:Thanksgiving
URL;VALUE=URI:https://www.dist126.org/hazelgreen/calendar/2043786/thanksgiv
 ing
DTSTART;VALUE=DATE:20191128
DTEND;VALUE=DATE:20191129
END:VEVENT
END:VCALENDAR
