BEGIN:VCALENDAR
VERSION:2.0
PRODID:SchoolNow
CALSCALE:GREGORIAN
BEGIN:VEVENT
UID:cffaac6c-b3be-11e9-a8f5-120011e96faa
DTSTAMP:20190731T181252Z
SUMMARY:Hazelgreen-PFO Meeting
URL;VALUE=URI:https://www.dist126.org/hazelgreen/calendar/2043784/hazelgree
 n-pfo-meeting
DTSTART:20191121T001500Z
DTEND:20191121T011200Z
END:VEVENT
END:VCALENDAR
