BEGIN:VCALENDAR
VERSION:2.0
PRODID:SchoolNow
CALSCALE:GREGORIAN
BEGIN:VEVENT
UID:a9a1acb4-b3be-11e9-b562-120011e96faa
DTSTAMP:20190731T181148Z
SUMMARY:Hazelgreen Picture Retakes
URL;VALUE=URI:https://www.dist126.org/hazelgreen/calendar/2043783/hazelgree
 n-picture-retakes
DTSTART;VALUE=DATE:20191113
DTEND;VALUE=DATE:20191114
END:VEVENT
END:VCALENDAR
