BEGIN:VCALENDAR
VERSION:2.0
PRODID:SchoolNow
CALSCALE:GREGORIAN
BEGIN:VEVENT
UID:5bb40fe2-b3be-11e9-aab6-0a903d07d222
DTSTAMP:20190731T180937Z
SUMMARY:Hazelgreen Service Club Food Drive Begins
URL;VALUE=URI:https://www.dist126.org/hazelgreen/calendar/2043782/hazelgree
 n-service-club-food-drive-begins
DTSTART;VALUE=DATE:20191104
DTEND;VALUE=DATE:20191105
END:VEVENT
END:VCALENDAR
