BEGIN:VCALENDAR
VERSION:2.0
PRODID:SchoolNow
CALSCALE:GREGORIAN
BEGIN:VEVENT
UID:0a9b5eb8-b3b3-11e9-98f2-0aa5a7728240
DTSTAMP:20190731T164836Z
SUMMARY:Family Reading Night
URL;VALUE=URI:https://www.dist126.org/hazelgreen/calendar/2043691/family-re
 ading-night
DTSTART:20200130T003000Z
DTEND:20200130T013000Z
END:VEVENT
END:VCALENDAR
