BEGIN:VCALENDAR
VERSION:2.0
PRODID:SchoolNow
CALSCALE:GREGORIAN
BEGIN:VEVENT
UID:da507ff4-b3b2-11e9-841b-0aa5a7728240
DTSTAMP:20190731T164715Z
SUMMARY:Early Dismissal-School Improvement Day
URL;VALUE=URI:https://www.dist126.org/hazelgreen/calendar/2043690/early-dis
 missal-school-improvement-day
DTSTART:20200124T143000Z
DTEND:20200124T174500Z
END:VEVENT
END:VCALENDAR
