BEGIN:VCALENDAR
VERSION:2.0
PRODID:SchoolNow
CALSCALE:GREGORIAN
BEGIN:VEVENT
UID:9ef6790e-b3b2-11e9-bfe0-0aa5a7728240
DTSTAMP:20190731T164536Z
SUMMARY:No School - Martin Luther King Day
URL;VALUE=URI:https://www.dist126.org/hazelgreen/calendar/2043688/no-school
 -martin-luther-king-day
DTSTART;VALUE=DATE:20200120
DTEND;VALUE=DATE:20200121
END:VEVENT
END:VCALENDAR
