BEGIN:VCALENDAR
VERSION:2.0
PRODID:SchoolNow
CALSCALE:GREGORIAN
BEGIN:VEVENT
UID:82a43048-b3b2-11e9-ab88-0aa5a7728240
DTSTAMP:20190731T164448Z
SUMMARY:Winter Break
URL;VALUE=URI:https://www.dist126.org/hazelgreen/calendar/2043687/winter-br
 eak
DTSTART;VALUE=DATE:20200101
DTEND;VALUE=DATE:20200104
END:VEVENT
END:VCALENDAR
